BEGIN:VCALENDAR
VERSION:2.0
CALSCALE:GREGORIAN
BEGIN:VEVENT
URL:https://www.learndesk.us/class/5062331950170112/lesson/a1e265c1eb28d7b0c1abfd1407b3fe16?ref=outlook-calendar
SUMMARY:The basics
DTSTART;TZID=America/Los_Angeles:20260420T190000
DTEND;TZID=America/Los_Angeles:20260420T200000
LOCATION:https://www.learndesk.us/class/5062331950170112/lesson/a1e265c1eb28d7b0c1abfd1407b3fe16?ref=outlook-calendar
DESCRIPTION: https://www.learndesk.us/class/5062331950170112/lesson/a1e265c1eb28d7b0c1abfd1407b3fe16?ref=outlook-calendar
STATUS:CONFIRMED
SEQUENCE:3
BEGIN:VALARM
TRIGGER:-PT10M
DESCRIPTION:Class Reminder
ACTION:DISPLAY
END:VALARM
END:VEVENT
END:VCALENDAR