BEGIN:VCALENDAR
VERSION:2.0
CALSCALE:GREGORIAN
BEGIN:VEVENT
URL:https://www.learndesk.us/class/5062331950170112/lesson/7d00dfc793a6112b4e5e8c245fbb601c?ref=outlook-calendar
SUMMARY:Instant TV Interview Skills Course
DTSTART;TZID=America/Los_Angeles:20260420T190000
DTEND;TZID=America/Los_Angeles:20260420T200000
LOCATION:https://www.learndesk.us/class/5062331950170112/lesson/7d00dfc793a6112b4e5e8c245fbb601c?ref=outlook-calendar
DESCRIPTION: https://www.learndesk.us/class/5062331950170112/lesson/7d00dfc793a6112b4e5e8c245fbb601c?ref=outlook-calendar
STATUS:CONFIRMED
SEQUENCE:3
BEGIN:VALARM
TRIGGER:-PT10M
DESCRIPTION:Class Reminder
ACTION:DISPLAY
END:VALARM
END:VEVENT
END:VCALENDAR