BEGIN:VCALENDAR
VERSION:2.0
CALSCALE:GREGORIAN
BEGIN:VEVENT
URL:https://www.learndesk.us/class/5054915883827200/lesson/d88f4e6dcc2f2e3c746a347623467855?ref=outlook-calendar
SUMMARY:Using the Audio Mixer
DTSTART;TZID=America/Los_Angeles:20260422T190000
DTEND;TZID=America/Los_Angeles:20260422T200000
LOCATION:https://www.learndesk.us/class/5054915883827200/lesson/d88f4e6dcc2f2e3c746a347623467855?ref=outlook-calendar
DESCRIPTION: https://www.learndesk.us/class/5054915883827200/lesson/d88f4e6dcc2f2e3c746a347623467855?ref=outlook-calendar
STATUS:CONFIRMED
SEQUENCE:3
BEGIN:VALARM
TRIGGER:-PT10M
DESCRIPTION:Class Reminder
ACTION:DISPLAY
END:VALARM
END:VEVENT
END:VCALENDAR