BEGIN:VCALENDAR
VERSION:2.0
CALSCALE:GREGORIAN
BEGIN:VEVENT
URL:https://www.learndesk.us/class/5054915883827200/lesson/b05846fa40dec8a92eb6c863680e4884?ref=outlook-calendar
SUMMARY:Coordinating SFX, Music & Visuals
DTSTART;TZID=America/Los_Angeles:20260420T190000
DTEND;TZID=America/Los_Angeles:20260420T200000
LOCATION:https://www.learndesk.us/class/5054915883827200/lesson/b05846fa40dec8a92eb6c863680e4884?ref=outlook-calendar
DESCRIPTION: https://www.learndesk.us/class/5054915883827200/lesson/b05846fa40dec8a92eb6c863680e4884?ref=outlook-calendar
STATUS:CONFIRMED
SEQUENCE:3
BEGIN:VALARM
TRIGGER:-PT10M
DESCRIPTION:Class Reminder
ACTION:DISPLAY
END:VALARM
END:VEVENT
END:VCALENDAR