BEGIN:VCALENDAR
VERSION:2.0
CALSCALE:GREGORIAN
BEGIN:VEVENT
URL:https://www.learndesk.us/class/5054915883827200/lesson/4eeebc8281e9af0ea08ab759622f4f08?ref=outlook-calendar
SUMMARY:Finding Great Music
DTSTART;TZID=America/Los_Angeles:20260422T190000
DTEND;TZID=America/Los_Angeles:20260422T200000
LOCATION:https://www.learndesk.us/class/5054915883827200/lesson/4eeebc8281e9af0ea08ab759622f4f08?ref=outlook-calendar
DESCRIPTION: https://www.learndesk.us/class/5054915883827200/lesson/4eeebc8281e9af0ea08ab759622f4f08?ref=outlook-calendar
STATUS:CONFIRMED
SEQUENCE:3
BEGIN:VALARM
TRIGGER:-PT10M
DESCRIPTION:Class Reminder
ACTION:DISPLAY
END:VALARM
END:VEVENT
END:VCALENDAR