BEGIN:VCALENDAR
VERSION:2.0
CALSCALE:GREGORIAN
BEGIN:VEVENT
URL:https://www.learndesk.us/class/5054915883827200/lesson/3427c07cd4149010bc96e3e7a7186e16?ref=outlook-calendar
SUMMARY:Basic Music Terminology
DTSTART;TZID=America/Los_Angeles:20260422T190000
DTEND;TZID=America/Los_Angeles:20260422T200000
LOCATION:https://www.learndesk.us/class/5054915883827200/lesson/3427c07cd4149010bc96e3e7a7186e16?ref=outlook-calendar
DESCRIPTION: https://www.learndesk.us/class/5054915883827200/lesson/3427c07cd4149010bc96e3e7a7186e16?ref=outlook-calendar
STATUS:CONFIRMED
SEQUENCE:3
BEGIN:VALARM
TRIGGER:-PT10M
DESCRIPTION:Class Reminder
ACTION:DISPLAY
END:VALARM
END:VEVENT
END:VCALENDAR