BEGIN:VCALENDAR
VERSION:2.0
CALSCALE:GREGORIAN
BEGIN:VEVENT
URL:https://www.learndesk.us/class/5052362706124800/lesson/f82e09b5938c43983003cc57e61ee448?ref=outlook-calendar
SUMMARY:Understanding the Dataset Menu
DTSTART;TZID=America/Los_Angeles:20260423T190000
DTEND;TZID=America/Los_Angeles:20260423T200000
LOCATION:https://www.learndesk.us/class/5052362706124800/lesson/f82e09b5938c43983003cc57e61ee448?ref=outlook-calendar
DESCRIPTION: This video is about understanding the dataset menu.

https://www.learndesk.us/class/5052362706124800/lesson/f82e09b5938c43983003cc57e61ee448?ref=outlook-calendar
STATUS:CONFIRMED
SEQUENCE:3
BEGIN:VALARM
TRIGGER:-PT10M
DESCRIPTION:Class Reminder
ACTION:DISPLAY
END:VALARM
END:VEVENT
END:VCALENDAR