BEGIN:VCALENDAR
VERSION:2.0
CALSCALE:GREGORIAN
BEGIN:VEVENT
URL:https://www.learndesk.us/class/5052362706124800/lesson/f6dd7f12580c0761bb3842cb2bc15c74?ref=outlook-calendar
SUMMARY:Categorizing Data
DTSTART;TZID=America/Los_Angeles:20260422T190000
DTEND;TZID=America/Los_Angeles:20260422T200000
LOCATION:https://www.learndesk.us/class/5052362706124800/lesson/f6dd7f12580c0761bb3842cb2bc15c74?ref=outlook-calendar
DESCRIPTION: This video tries to understand why defining categories for data is important and how this helps Power BI Desktop to present data correctly.

https://www.learndesk.us/class/5052362706124800/lesson/f6dd7f12580c0761bb3842cb2bc15c74?ref=outlook-calendar
STATUS:CONFIRMED
SEQUENCE:3
BEGIN:VALARM
TRIGGER:-PT10M
DESCRIPTION:Class Reminder
ACTION:DISPLAY
END:VALARM
END:VEVENT
END:VCALENDAR