BEGIN:VCALENDAR
VERSION:2.0
CALSCALE:GREGORIAN
BEGIN:VEVENT
URL:https://www.learndesk.us/class/5052362706124800/lesson/ee78969cbc7519bc09e432adc1a54d01?ref=outlook-calendar
SUMMARY:Working in the Report View to Visualize our Results
DTSTART;TZID=America/Los_Angeles:20260422T190000
DTEND;TZID=America/Los_Angeles:20260422T200000
LOCATION:https://www.learndesk.us/class/5052362706124800/lesson/ee78969cbc7519bc09e432adc1a54d01?ref=outlook-calendar
DESCRIPTION: 
This section explains about working in the report view to visualize results and a lot more.

Module introduction
Understanding the interface of the report view
Creating our first visualizations
Editing interactions and adding tooltips
Adding color saturation
Understanding hierarchies and adding Drill-Down
Formatting charts and sorting
Introducing slicers
Adding Treemaps and tables
Applying different filter types
Creating (Multi-Row) cards
Understanding combined visualizations and waterfalls
Module summary



https://www.learndesk.us/class/5052362706124800/lesson/ee78969cbc7519bc09e432adc1a54d01?ref=outlook-calendar
STATUS:CONFIRMED
SEQUENCE:3
BEGIN:VALARM
TRIGGER:-PT10M
DESCRIPTION:Class Reminder
ACTION:DISPLAY
END:VALARM
END:VEVENT
END:VCALENDAR