BEGIN:VCALENDAR
VERSION:2.0
CALSCALE:GREGORIAN
BEGIN:VEVENT
URL:https://www.learndesk.us/class/5052362706124800/lesson/ee4be3380cd1eadd158f5f166c1fd3c5?ref=outlook-calendar
SUMMARY:Installing d3.js (Data Driven Documents)
DTSTART;TZID=America/Los_Angeles:20260423T190000
DTEND;TZID=America/Los_Angeles:20260423T200000
LOCATION:https://www.learndesk.us/class/5052362706124800/lesson/ee4be3380cd1eadd158f5f166c1fd3c5?ref=outlook-calendar
DESCRIPTION: Learn how to install a fitting package (d3.js) in this video.

https://www.learndesk.us/class/5052362706124800/lesson/ee4be3380cd1eadd158f5f166c1fd3c5?ref=outlook-calendar
STATUS:CONFIRMED
SEQUENCE:3
BEGIN:VALARM
TRIGGER:-PT10M
DESCRIPTION:Class Reminder
ACTION:DISPLAY
END:VALARM
END:VEVENT
END:VCALENDAR