BEGIN:VCALENDAR
VERSION:2.0
CALSCALE:GREGORIAN
BEGIN:VEVENT
URL:https://www.learndesk.us/class/5052362706124800/lesson/ed91da30492360ce0245ee542ad0d0dd?ref=outlook-calendar
SUMMARY:Understanding the Visuals.ts File
DTSTART;TZID=America/Los_Angeles:20260422T190000
DTEND;TZID=America/Los_Angeles:20260422T200000
LOCATION:https://www.learndesk.us/class/5052362706124800/lesson/ed91da30492360ce0245ee542ad0d0dd?ref=outlook-calendar
DESCRIPTION: How a custom visual work underhood, which roles does this strange visual.ts file play? This lecture dives into these questions.

https://www.learndesk.us/class/5052362706124800/lesson/ed91da30492360ce0245ee542ad0d0dd?ref=outlook-calendar
STATUS:CONFIRMED
SEQUENCE:3
BEGIN:VALARM
TRIGGER:-PT10M
DESCRIPTION:Class Reminder
ACTION:DISPLAY
END:VALARM
END:VEVENT
END:VCALENDAR