BEGIN:VCALENDAR
VERSION:2.0
CALSCALE:GREGORIAN
BEGIN:VEVENT
URL:https://www.learndesk.us/class/5052362706124800/lesson/ec0d4867be93a6c9838396b8f961c1ee?ref=outlook-calendar
SUMMARY:Using Data Driven Documents (D3)
DTSTART;TZID=America/Los_Angeles:20260422T190000
DTEND;TZID=America/Los_Angeles:20260422T200000
LOCATION:https://www.learndesk.us/class/5052362706124800/lesson/ec0d4867be93a6c9838396b8f961c1ee?ref=outlook-calendar
DESCRIPTION: Learn how to use data-driven documents in this video.

https://www.learndesk.us/class/5052362706124800/lesson/ec0d4867be93a6c9838396b8f961c1ee?ref=outlook-calendar
STATUS:CONFIRMED
SEQUENCE:3
BEGIN:VALARM
TRIGGER:-PT10M
DESCRIPTION:Class Reminder
ACTION:DISPLAY
END:VALARM
END:VEVENT
END:VCALENDAR