BEGIN:VCALENDAR
VERSION:2.0
CALSCALE:GREGORIAN
BEGIN:VEVENT
URL:https://www.learndesk.us/class/5052362706124800/lesson/e9b6f6bcae0a87dab73c88c5fa334e60?ref=outlook-calendar
SUMMARY:Limiting the Data Input
DTSTART;TZID=America/Los_Angeles:20260422T190000
DTEND;TZID=America/Los_Angeles:20260422T200000
LOCATION:https://www.learndesk.us/class/5052362706124800/lesson/e9b6f6bcae0a87dab73c88c5fa334e60?ref=outlook-calendar
DESCRIPTION: This video is about limiting the data input to just one dataset.

https://www.learndesk.us/class/5052362706124800/lesson/e9b6f6bcae0a87dab73c88c5fa334e60?ref=outlook-calendar
STATUS:CONFIRMED
SEQUENCE:3
BEGIN:VALARM
TRIGGER:-PT10M
DESCRIPTION:Class Reminder
ACTION:DISPLAY
END:VALARM
END:VEVENT
END:VCALENDAR