BEGIN:VCALENDAR
VERSION:2.0
CALSCALE:GREGORIAN
BEGIN:VEVENT
URL:https://www.learndesk.us/class/5052362706124800/lesson/d9d0b44849f13367dfed45ba040a372d?ref=outlook-calendar
SUMMARY:Other Data Sources
DTSTART;TZID=America/Los_Angeles:20260422T190000
DTEND;TZID=America/Los_Angeles:20260422T200000
LOCATION:https://www.learndesk.us/class/5052362706124800/lesson/d9d0b44849f13367dfed45ba040a372d?ref=outlook-calendar
DESCRIPTION: 
This section explains importing JSON Data, Importing data from REST APIs, and a lot more.

Module introduction
Importing JSON data
Importing Data from REST APIs
Preparation: Setting up a MySQL Server
Importing Data from a MySQL Server (and other SQL Servers)
Wrap Up



https://www.learndesk.us/class/5052362706124800/lesson/d9d0b44849f13367dfed45ba040a372d?ref=outlook-calendar
STATUS:CONFIRMED
SEQUENCE:3
BEGIN:VALARM
TRIGGER:-PT10M
DESCRIPTION:Class Reminder
ACTION:DISPLAY
END:VALARM
END:VEVENT
END:VCALENDAR