BEGIN:VCALENDAR
VERSION:2.0
CALSCALE:GREGORIAN
BEGIN:VEVENT
URL:https://www.learndesk.us/class/5052362706124800/lesson/d2b3216f3ff7d2ca2507f8401a414840?ref=outlook-calendar
SUMMARY:Taking a Closer Look at the Query Editor Interface
DTSTART;TZID=America/Los_Angeles:20260422T190000
DTEND;TZID=America/Los_Angeles:20260422T200000
LOCATION:https://www.learndesk.us/class/5052362706124800/lesson/d2b3216f3ff7d2ca2507f8401a414840?ref=outlook-calendar
DESCRIPTION: In this video, you will take a look at what the query editor is and understand why we need it in Power BI desktop.

https://www.learndesk.us/class/5052362706124800/lesson/d2b3216f3ff7d2ca2507f8401a414840?ref=outlook-calendar
STATUS:CONFIRMED
SEQUENCE:3
BEGIN:VALARM
TRIGGER:-PT10M
DESCRIPTION:Class Reminder
ACTION:DISPLAY
END:VALARM
END:VEVENT
END:VCALENDAR