BEGIN:VCALENDAR
VERSION:2.0
CALSCALE:GREGORIAN
BEGIN:VEVENT
URL:https://www.learndesk.us/class/5052362706124800/lesson/d293da4c9feede037d3b6cf9c8c59853?ref=outlook-calendar
SUMMARY:Introducing and Understanding Relationships
DTSTART;TZID=America/Los_Angeles:20260424T190000
DTEND;TZID=America/Los_Angeles:20260424T200000
LOCATION:https://www.learndesk.us/class/5052362706124800/lesson/d293da4c9feede037d3b6cf9c8c59853?ref=outlook-calendar
DESCRIPTION: This video tries to understand why it is important to add relationships between the different tables.

https://www.learndesk.us/class/5052362706124800/lesson/d293da4c9feede037d3b6cf9c8c59853?ref=outlook-calendar
STATUS:CONFIRMED
SEQUENCE:3
BEGIN:VALARM
TRIGGER:-PT10M
DESCRIPTION:Class Reminder
ACTION:DISPLAY
END:VALARM
END:VEVENT
END:VCALENDAR