BEGIN:VCALENDAR
VERSION:2.0
CALSCALE:GREGORIAN
BEGIN:VEVENT
URL:https://www.learndesk.us/class/5052362706124800/lesson/ceab301eefa1080b97187c213a0123f6?ref=outlook-calendar
SUMMARY:Creating and Using a Visual
DTSTART;TZID=America/Los_Angeles:20260424T190000
DTEND;TZID=America/Los_Angeles:20260424T200000
LOCATION:https://www.learndesk.us/class/5052362706124800/lesson/ceab301eefa1080b97187c213a0123f6?ref=outlook-calendar
DESCRIPTION: Time to create and use our first visual. This lecture explains how to install the Power BI developer tools and create a first, very basic visual.

https://www.learndesk.us/class/5052362706124800/lesson/ceab301eefa1080b97187c213a0123f6?ref=outlook-calendar
STATUS:CONFIRMED
SEQUENCE:3
BEGIN:VALARM
TRIGGER:-PT10M
DESCRIPTION:Class Reminder
ACTION:DISPLAY
END:VALARM
END:VEVENT
END:VCALENDAR