BEGIN:VCALENDAR
VERSION:2.0
CALSCALE:GREGORIAN
BEGIN:VEVENT
URL:https://www.learndesk.us/class/5052362706124800/lesson/c57a2c675f61ec10fe597ca7dbaec00d?ref=outlook-calendar
SUMMARY:Creating Custom Visuals (Power BI for Developers)
DTSTART;TZID=America/Los_Angeles:20260422T190000
DTEND;TZID=America/Los_Angeles:20260422T200000
LOCATION:https://www.learndesk.us/class/5052362706124800/lesson/c57a2c675f61ec10fe597ca7dbaec00d?ref=outlook-calendar
DESCRIPTION: 
This section explains how custom visuals work and understanding the project structure.

Module introduction
How do custom visuals work?
Using data-driven documents (D3)
Creating and using a Visual
Installing an IDE (Code Editor)
Understanding the visuals.ts File
Understanding the project structure
Installing d3.js (Data-Driven Documents)
Adding the first shape
Connecting shapes to data
Scaling shapes
Managing visual capabilities to allow data input
Starting the data extraction
Limiting the data input
Extracting data
Displaying the user data
Optimizing the code
Adding dynamic coloring
Making bars selectable (Cross-Visual)
Adding X-Axis labels
Adding custom visuals settings
Extracting the visual configuration
Informing Power BI about the custom configuration
Next steps
Packaging the custom visual
Wrap up



https://www.learndesk.us/class/5052362706124800/lesson/c57a2c675f61ec10fe597ca7dbaec00d?ref=outlook-calendar
STATUS:CONFIRMED
SEQUENCE:3
BEGIN:VALARM
TRIGGER:-PT10M
DESCRIPTION:Class Reminder
ACTION:DISPLAY
END:VALARM
END:VEVENT
END:VCALENDAR