BEGIN:VCALENDAR
VERSION:2.0
CALSCALE:GREGORIAN
BEGIN:VEVENT
URL:https://www.learndesk.us/class/5052362706124800/lesson/c093d22fd490683884c359977096a123?ref=outlook-calendar
SUMMARY:DAX and Calculated Columns
DTSTART;TZID=America/Los_Angeles:20260421T190000
DTEND;TZID=America/Los_Angeles:20260421T200000
LOCATION:https://www.learndesk.us/class/5052362706124800/lesson/c093d22fd490683884c359977096a123?ref=outlook-calendar
DESCRIPTION: This video looks at the DAX and creates some basic formulas to understand the concept of calculated columns.

https://www.learndesk.us/class/5052362706124800/lesson/c093d22fd490683884c359977096a123?ref=outlook-calendar
STATUS:CONFIRMED
SEQUENCE:3
BEGIN:VALARM
TRIGGER:-PT10M
DESCRIPTION:Class Reminder
ACTION:DISPLAY
END:VALARM
END:VEVENT
END:VCALENDAR