BEGIN:VCALENDAR
VERSION:2.0
CALSCALE:GREGORIAN
BEGIN:VEVENT
URL:https://www.learndesk.us/class/5052362706124800/lesson/b824a08b64eb16914dfc5f04cdcd43e4?ref=outlook-calendar
SUMMARY:An Introduction to Power BI Desktop
DTSTART;TZID=America/Los_Angeles:20260424T190000
DTEND;TZID=America/Los_Angeles:20260424T200000
LOCATION:https://www.learndesk.us/class/5052362706124800/lesson/b824a08b64eb16914dfc5f04cdcd43e4?ref=outlook-calendar
DESCRIPTION: 
This section shows the workflow in the Power BI Desktop tool and introduces the different views of the data model.

An Overview of the workflow in Power BI desktop
Introducing the different views of the data model
Taking a closer look at the query editor interface
Before we dive deeper: Recommended settings



https://www.learndesk.us/class/5052362706124800/lesson/b824a08b64eb16914dfc5f04cdcd43e4?ref=outlook-calendar
STATUS:CONFIRMED
SEQUENCE:3
BEGIN:VALARM
TRIGGER:-PT10M
DESCRIPTION:Class Reminder
ACTION:DISPLAY
END:VALARM
END:VEVENT
END:VCALENDAR