BEGIN:VCALENDAR
VERSION:2.0
CALSCALE:GREGORIAN
BEGIN:VEVENT
URL:https://www.learndesk.us/class/5052362706124800/lesson/a5787a86bfda93d717cff07a8b8e4576?ref=outlook-calendar
SUMMARY:Creating Conditional Columns
DTSTART;TZID=America/Los_Angeles:20260422T190000
DTEND;TZID=America/Los_Angeles:20260422T200000
LOCATION:https://www.learndesk.us/class/5052362706124800/lesson/a5787a86bfda93d717cff07a8b8e4576?ref=outlook-calendar
DESCRIPTION: Learn how to create a conditional column.

https://www.learndesk.us/class/5052362706124800/lesson/a5787a86bfda93d717cff07a8b8e4576?ref=outlook-calendar
STATUS:CONFIRMED
SEQUENCE:3
BEGIN:VALARM
TRIGGER:-PT10M
DESCRIPTION:Class Reminder
ACTION:DISPLAY
END:VALARM
END:VEVENT
END:VCALENDAR