BEGIN:VCALENDAR
VERSION:2.0
CALSCALE:GREGORIAN
BEGIN:VEVENT
URL:https://www.learndesk.us/class/5052362706124800/lesson/a253a0eb3da78588e42b7297988f97aa?ref=outlook-calendar
SUMMARY:Just to Be Sure: What is the Query Editor?
DTSTART;TZID=America/Los_Angeles:20260422T190000
DTEND;TZID=America/Los_Angeles:20260422T200000
LOCATION:https://www.learndesk.us/class/5052362706124800/lesson/a253a0eb3da78588e42b7297988f97aa?ref=outlook-calendar
DESCRIPTION: This video takes a look at the workflow of Power BI Desktop and understands why we should start our project in the Query Editor.

https://www.learndesk.us/class/5052362706124800/lesson/a253a0eb3da78588e42b7297988f97aa?ref=outlook-calendar
STATUS:CONFIRMED
SEQUENCE:3
BEGIN:VALARM
TRIGGER:-PT10M
DESCRIPTION:Class Reminder
ACTION:DISPLAY
END:VALARM
END:VEVENT
END:VCALENDAR