BEGIN:VCALENDAR
VERSION:2.0
CALSCALE:GREGORIAN
BEGIN:VEVENT
URL:https://www.learndesk.us/class/5052362706124800/lesson/a13b3e645bd4f5e6ee70c9739b960e28?ref=outlook-calendar
SUMMARY:Importing JSON Data
DTSTART;TZID=America/Los_Angeles:20260423T190000
DTEND;TZID=America/Los_Angeles:20260423T200000
LOCATION:https://www.learndesk.us/class/5052362706124800/lesson/a13b3e645bd4f5e6ee70c9739b960e28?ref=outlook-calendar
DESCRIPTION: Learn about JSON and how to import JSON files in this video.

https://www.learndesk.us/class/5052362706124800/lesson/a13b3e645bd4f5e6ee70c9739b960e28?ref=outlook-calendar
STATUS:CONFIRMED
SEQUENCE:3
BEGIN:VALARM
TRIGGER:-PT10M
DESCRIPTION:Class Reminder
ACTION:DISPLAY
END:VALARM
END:VEVENT
END:VCALENDAR