BEGIN:VCALENDAR
VERSION:2.0
CALSCALE:GREGORIAN
BEGIN:VEVENT
URL:https://www.learndesk.us/class/5052362706124800/lesson/9cfd72f4bf9bff430c37d992b40b9263?ref=outlook-calendar
SUMMARY:M vs. DAX Applied: Calculated Columns
DTSTART;TZID=America/Los_Angeles:20260422T190000
DTEND;TZID=America/Los_Angeles:20260422T200000
LOCATION:https://www.learndesk.us/class/5052362706124800/lesson/9cfd72f4bf9bff430c37d992b40b9263?ref=outlook-calendar
DESCRIPTION: This video demonstrates the differences between the M-language and the DAX in our project.

https://www.learndesk.us/class/5052362706124800/lesson/9cfd72f4bf9bff430c37d992b40b9263?ref=outlook-calendar
STATUS:CONFIRMED
SEQUENCE:3
BEGIN:VALARM
TRIGGER:-PT10M
DESCRIPTION:Class Reminder
ACTION:DISPLAY
END:VALARM
END:VEVENT
END:VCALENDAR