BEGIN:VCALENDAR
VERSION:2.0
CALSCALE:GREGORIAN
BEGIN:VEVENT
URL:https://www.learndesk.us/class/5052362706124800/lesson/9c0e6b478378db6ae9a1edf7cdeccadf?ref=outlook-calendar
SUMMARY:Understanding Append Queries
DTSTART;TZID=America/Los_Angeles:20260422T190000
DTEND;TZID=America/Los_Angeles:20260422T200000
LOCATION:https://www.learndesk.us/class/5052362706124800/lesson/9c0e6b478378db6ae9a1edf7cdeccadf?ref=outlook-calendar
DESCRIPTION: Learn why the append function can be a big help to structure our data.

https://www.learndesk.us/class/5052362706124800/lesson/9c0e6b478378db6ae9a1edf7cdeccadf?ref=outlook-calendar
STATUS:CONFIRMED
SEQUENCE:3
BEGIN:VALARM
TRIGGER:-PT10M
DESCRIPTION:Class Reminder
ACTION:DISPLAY
END:VALARM
END:VEVENT
END:VCALENDAR