BEGIN:VCALENDAR
VERSION:2.0
CALSCALE:GREGORIAN
BEGIN:VEVENT
URL:https://www.learndesk.us/class/5052362706124800/lesson/958a6e580ead44a5d0544f4d130be6bd?ref=outlook-calendar
SUMMARY:Introducing the DIM AgeGroup Table
DTSTART;TZID=America/Los_Angeles:20260421T190000
DTEND;TZID=America/Los_Angeles:20260421T200000
LOCATION:https://www.learndesk.us/class/5052362706124800/lesson/958a6e580ead44a5d0544f4d130be6bd?ref=outlook-calendar
DESCRIPTION: Learn to create the DIM age group table.

https://www.learndesk.us/class/5052362706124800/lesson/958a6e580ead44a5d0544f4d130be6bd?ref=outlook-calendar
STATUS:CONFIRMED
SEQUENCE:3
BEGIN:VALARM
TRIGGER:-PT10M
DESCRIPTION:Class Reminder
ACTION:DISPLAY
END:VALARM
END:VEVENT
END:VCALENDAR