BEGIN:VCALENDAR
VERSION:2.0
CALSCALE:GREGORIAN
BEGIN:VEVENT
URL:https://www.learndesk.us/class/5052362706124800/lesson/90c00ebb4c908f97a87f174d44423b94?ref=outlook-calendar
SUMMARY:Understanding the Differences Between the M-Language and DAX
DTSTART;TZID=America/Los_Angeles:20260422T190000
DTEND;TZID=America/Los_Angeles:20260422T200000
LOCATION:https://www.learndesk.us/class/5052362706124800/lesson/90c00ebb4c908f97a87f174d44423b94?ref=outlook-calendar
DESCRIPTION: Learn about the key differences between the M-language in the Query Editor and the DAX in the data model.

https://www.learndesk.us/class/5052362706124800/lesson/90c00ebb4c908f97a87f174d44423b94?ref=outlook-calendar
STATUS:CONFIRMED
SEQUENCE:3
BEGIN:VALARM
TRIGGER:-PT10M
DESCRIPTION:Class Reminder
ACTION:DISPLAY
END:VALARM
END:VEVENT
END:VCALENDAR