BEGIN:VCALENDAR
VERSION:2.0
CALSCALE:GREGORIAN
BEGIN:VEVENT
URL:https://www.learndesk.us/class/5052362706124800/lesson/900869540cdec5423ac5914354d48703?ref=outlook-calendar
SUMMARY:Understanding the Interface
DTSTART;TZID=America/Los_Angeles:20260422T190000
DTEND;TZID=America/Los_Angeles:20260422T200000
LOCATION:https://www.learndesk.us/class/5052362706124800/lesson/900869540cdec5423ac5914354d48703?ref=outlook-calendar
DESCRIPTION: This video tries to understand what we generally can do in Power BI Service.

https://www.learndesk.us/class/5052362706124800/lesson/900869540cdec5423ac5914354d48703?ref=outlook-calendar
STATUS:CONFIRMED
SEQUENCE:3
BEGIN:VALARM
TRIGGER:-PT10M
DESCRIPTION:Class Reminder
ACTION:DISPLAY
END:VALARM
END:VEVENT
END:VCALENDAR