BEGIN:VCALENDAR
VERSION:2.0
CALSCALE:GREGORIAN
BEGIN:VEVENT
URL:https://www.learndesk.us/class/5052362706124800/lesson/8a6ab9f7c9823417fdede07460ab2f82?ref=outlook-calendar
SUMMARY:Creating the Fact Population Table
DTSTART;TZID=America/Los_Angeles:20260422T190000
DTEND;TZID=America/Los_Angeles:20260422T200000
LOCATION:https://www.learndesk.us/class/5052362706124800/lesson/8a6ab9f7c9823417fdede07460ab2f82?ref=outlook-calendar
DESCRIPTION: Learn to create the fact population table.

https://www.learndesk.us/class/5052362706124800/lesson/8a6ab9f7c9823417fdede07460ab2f82?ref=outlook-calendar
STATUS:CONFIRMED
SEQUENCE:3
BEGIN:VALARM
TRIGGER:-PT10M
DESCRIPTION:Class Reminder
ACTION:DISPLAY
END:VALARM
END:VEVENT
END:VCALENDAR