BEGIN:VCALENDAR
VERSION:2.0
CALSCALE:GREGORIAN
BEGIN:VEVENT
URL:https://www.learndesk.us/class/5052362706124800/lesson/895a74a6999bfdf9278c04135dfaa0c8?ref=outlook-calendar
SUMMARY:Working on Reports
DTSTART;TZID=America/Los_Angeles:20260424T190000
DTEND;TZID=America/Los_Angeles:20260424T200000
LOCATION:https://www.learndesk.us/class/5052362706124800/lesson/895a74a6999bfdf9278c04135dfaa0c8?ref=outlook-calendar
DESCRIPTION: This video explains where to find the report created in Power BI Desktop and how to create new reports.

https://www.learndesk.us/class/5052362706124800/lesson/895a74a6999bfdf9278c04135dfaa0c8?ref=outlook-calendar
STATUS:CONFIRMED
SEQUENCE:3
BEGIN:VALARM
TRIGGER:-PT10M
DESCRIPTION:Class Reminder
ACTION:DISPLAY
END:VALARM
END:VEVENT
END:VCALENDAR