BEGIN:VCALENDAR
VERSION:2.0
CALSCALE:GREGORIAN
BEGIN:VEVENT
URL:https://www.learndesk.us/class/5052362706124800/lesson/8758db3108c83c39fd1340530b4f7c0b?ref=outlook-calendar
SUMMARY:Publishing the App
DTSTART;TZID=America/Los_Angeles:20260422T190000
DTEND;TZID=America/Los_Angeles:20260422T200000
LOCATION:https://www.learndesk.us/class/5052362706124800/lesson/8758db3108c83c39fd1340530b4f7c0b?ref=outlook-calendar
DESCRIPTION: Learn how you can publish the app and how to access the shared data.

https://www.learndesk.us/class/5052362706124800/lesson/8758db3108c83c39fd1340530b4f7c0b?ref=outlook-calendar
STATUS:CONFIRMED
SEQUENCE:3
BEGIN:VALARM
TRIGGER:-PT10M
DESCRIPTION:Class Reminder
ACTION:DISPLAY
END:VALARM
END:VEVENT
END:VCALENDAR