BEGIN:VCALENDAR
VERSION:2.0
CALSCALE:GREGORIAN
BEGIN:VEVENT
URL:https://www.learndesk.us/class/5052362706124800/lesson/7c06da02552b09b80f524fb3aec47fe4?ref=outlook-calendar
SUMMARY:Before we Dive Deeper: Recommended Settings
DTSTART;TZID=America/Los_Angeles:20260424T190000
DTEND;TZID=America/Los_Angeles:20260424T200000
LOCATION:https://www.learndesk.us/class/5052362706124800/lesson/7c06da02552b09b80f524fb3aec47fe4?ref=outlook-calendar
DESCRIPTION: This video is about the recommended settings.

https://www.learndesk.us/class/5052362706124800/lesson/7c06da02552b09b80f524fb3aec47fe4?ref=outlook-calendar
STATUS:CONFIRMED
SEQUENCE:3
BEGIN:VALARM
TRIGGER:-PT10M
DESCRIPTION:Class Reminder
ACTION:DISPLAY
END:VALARM
END:VEVENT
END:VCALENDAR