BEGIN:VCALENDAR
VERSION:2.0
CALSCALE:GREGORIAN
BEGIN:VEVENT
URL:https://www.learndesk.us/class/5052362706124800/lesson/76aa65a006dd86de1ad6022983dbf464?ref=outlook-calendar
SUMMARY:Power BI Service and Power BI Mobile - How to Continue?
DTSTART;TZID=America/Los_Angeles:20260422T190000
DTEND;TZID=America/Los_Angeles:20260422T200000
LOCATION:https://www.learndesk.us/class/5052362706124800/lesson/76aa65a006dd86de1ad6022983dbf464?ref=outlook-calendar
DESCRIPTION: 
This section explains Power BI service and Power BI mobile in detail.

Module introduction
Continuing our work and why we need Power BI service
Comparing Power BI Free, Pro, and Premium
Logging in to Power BI service
Understanding the interface
Importing our data from Power BI desktop to Power BI service
Understanding the dataset menu
Working on reports
Introducing dashboards
Exploring our workspace
Understanding gateways
Comparing personal and on-Premise gateway and installing a gateway
Working alone or collaborating with colleagues
Collaborating in App Workspaces
Sharing the results
Publishing the App
Content packs from online services
Power BI mobile: Installing and understanding the mobile app
One Last Thing: Excluding datasets from sharing
Module summary



https://www.learndesk.us/class/5052362706124800/lesson/76aa65a006dd86de1ad6022983dbf464?ref=outlook-calendar
STATUS:CONFIRMED
SEQUENCE:3
BEGIN:VALARM
TRIGGER:-PT10M
DESCRIPTION:Class Reminder
ACTION:DISPLAY
END:VALARM
END:VEVENT
END:VCALENDAR