BEGIN:VCALENDAR
VERSION:2.0
CALSCALE:GREGORIAN
BEGIN:VEVENT
URL:https://www.learndesk.us/class/5052362706124800/lesson/72417b9be42495f9b1c81d8fa7f23382?ref=outlook-calendar
SUMMARY:What we Achieved Until Now and How to Continue
DTSTART;TZID=America/Los_Angeles:20260422T190000
DTEND;TZID=America/Los_Angeles:20260422T200000
LOCATION:https://www.learndesk.us/class/5052362706124800/lesson/72417b9be42495f9b1c81d8fa7f23382?ref=outlook-calendar
DESCRIPTION: This video adds some more structure to the data in our query editor and starts shaping data.

https://www.learndesk.us/class/5052362706124800/lesson/72417b9be42495f9b1c81d8fa7f23382?ref=outlook-calendar
STATUS:CONFIRMED
SEQUENCE:3
BEGIN:VALARM
TRIGGER:-PT10M
DESCRIPTION:Class Reminder
ACTION:DISPLAY
END:VALARM
END:VEVENT
END:VCALENDAR