BEGIN:VCALENDAR
VERSION:2.0
CALSCALE:GREGORIAN
BEGIN:VEVENT
URL:https://www.learndesk.us/class/5052362706124800/lesson/6b6d0dd6b62ecca4efae60c6bc9bef85?ref=outlook-calendar
SUMMARY:An Introduction to the Query Editor
DTSTART;TZID=America/Los_Angeles:20260422T190000
DTEND;TZID=America/Los_Angeles:20260422T200000
LOCATION:https://www.learndesk.us/class/5052362706124800/lesson/6b6d0dd6b62ecca4efae60c6bc9bef85?ref=outlook-calendar
DESCRIPTION: 
This video explains Query Editor, how to connect Power BI Desktop to our data sources etc.

Just to be sure: What is the Query Editor?
Connecting Power BI Desktop to our data sources
Editing rows
Understanding append queries
Editing columns
Replacing values
Formatting data
Pivoting and unpivoting columns
Splitting columns
Creating a new group for our queries
What we achieved until now and how to continue
Introducing the star schema
Duplicating and referencing queries
Creating the DIM region table
Entering data manually
Merging queries
Finishing the DIM region table
Introducing the DIM age group table
Creating an index column
Duplicating columns and extracting Information
Creating conditional columns
Creating the Fact population table
Performing basic mathematical operations
Improving performance and loading data into the data model
Module summary



https://www.learndesk.us/class/5052362706124800/lesson/6b6d0dd6b62ecca4efae60c6bc9bef85?ref=outlook-calendar
STATUS:CONFIRMED
SEQUENCE:3
BEGIN:VALARM
TRIGGER:-PT10M
DESCRIPTION:Class Reminder
ACTION:DISPLAY
END:VALARM
END:VEVENT
END:VCALENDAR