BEGIN:VCALENDAR
VERSION:2.0
CALSCALE:GREGORIAN
BEGIN:VEVENT
URL:https://www.learndesk.us/class/5052362706124800/lesson/68d01c194378de8d7f54110edd616dd7?ref=outlook-calendar
SUMMARY:Initial Project 2/3: Working in the Query Editor
DTSTART;TZID=America/Los_Angeles:20260423T190000
DTEND;TZID=America/Los_Angeles:20260423T200000
LOCATION:https://www.learndesk.us/class/5052362706124800/lesson/68d01c194378de8d7f54110edd616dd7?ref=outlook-calendar
DESCRIPTION: In this video, we work on the data in the Query Editor.

https://www.learndesk.us/class/5052362706124800/lesson/68d01c194378de8d7f54110edd616dd7?ref=outlook-calendar
STATUS:CONFIRMED
SEQUENCE:3
BEGIN:VALARM
TRIGGER:-PT10M
DESCRIPTION:Class Reminder
ACTION:DISPLAY
END:VALARM
END:VEVENT
END:VCALENDAR