BEGIN:VCALENDAR
VERSION:2.0
CALSCALE:GREGORIAN
BEGIN:VEVENT
URL:https://www.learndesk.us/class/5052362706124800/lesson/676e7121a8ae99e639f21700d166bae4?ref=outlook-calendar
SUMMARY:Comparing Power BI Free, Pro and Premium
DTSTART;TZID=America/Los_Angeles:20260422T190000
DTEND;TZID=America/Los_Angeles:20260422T200000
LOCATION:https://www.learndesk.us/class/5052362706124800/lesson/676e7121a8ae99e639f21700d166bae4?ref=outlook-calendar
DESCRIPTION: This video compares Power BI free, Pro, and Premium.

https://www.learndesk.us/class/5052362706124800/lesson/676e7121a8ae99e639f21700d166bae4?ref=outlook-calendar
STATUS:CONFIRMED
SEQUENCE:3
BEGIN:VALARM
TRIGGER:-PT10M
DESCRIPTION:Class Reminder
ACTION:DISPLAY
END:VALARM
END:VEVENT
END:VCALENDAR