BEGIN:VCALENDAR
VERSION:2.0
CALSCALE:GREGORIAN
BEGIN:VEVENT
URL:https://www.learndesk.us/class/5052362706124800/lesson/64cd49d0a539b6ef00808d4a90b2026f?ref=outlook-calendar
SUMMARY:Packaging the Custom Visual
DTSTART;TZID=America/Los_Angeles:20260422T190000
DTEND;TZID=America/Los_Angeles:20260422T200000
LOCATION:https://www.learndesk.us/class/5052362706124800/lesson/64cd49d0a539b6ef00808d4a90b2026f?ref=outlook-calendar
DESCRIPTION: This video explains how you may package your visual to either use it in Power BI Desktop or distribute it.

https://www.learndesk.us/class/5052362706124800/lesson/64cd49d0a539b6ef00808d4a90b2026f?ref=outlook-calendar
STATUS:CONFIRMED
SEQUENCE:3
BEGIN:VALARM
TRIGGER:-PT10M
DESCRIPTION:Class Reminder
ACTION:DISPLAY
END:VALARM
END:VEVENT
END:VCALENDAR