BEGIN:VCALENDAR
VERSION:2.0
CALSCALE:GREGORIAN
BEGIN:VEVENT
URL:https://www.learndesk.us/class/5052362706124800/lesson/64cb6c0e47658eaff7862066cf89793f?ref=outlook-calendar
SUMMARY:Module Introduction
DTSTART;TZID=America/Los_Angeles:20260422T190000
DTEND;TZID=America/Los_Angeles:20260422T200000
LOCATION:https://www.learndesk.us/class/5052362706124800/lesson/64cb6c0e47658eaff7862066cf89793f?ref=outlook-calendar
DESCRIPTION: This video looks into the Power BI Desktop workflow and covers the various topics that need to be discussed in this section.

https://www.learndesk.us/class/5052362706124800/lesson/64cb6c0e47658eaff7862066cf89793f?ref=outlook-calendar
STATUS:CONFIRMED
SEQUENCE:3
BEGIN:VALARM
TRIGGER:-PT10M
DESCRIPTION:Class Reminder
ACTION:DISPLAY
END:VALARM
END:VEVENT
END:VCALENDAR