BEGIN:VCALENDAR
VERSION:2.0
CALSCALE:GREGORIAN
BEGIN:VEVENT
URL:https://www.learndesk.us/class/5052362706124800/lesson/5cb414a15806cf016489c72109208ae2?ref=outlook-calendar
SUMMARY:Comparing Personal and On-Premise Gateway and Installing a Gateway
DTSTART;TZID=America/Los_Angeles:20260422T190000
DTEND;TZID=America/Los_Angeles:20260422T200000
LOCATION:https://www.learndesk.us/class/5052362706124800/lesson/5cb414a15806cf016489c72109208ae2?ref=outlook-calendar
DESCRIPTION: This video compares personal and on-Premise gateway and installing it.

https://www.learndesk.us/class/5052362706124800/lesson/5cb414a15806cf016489c72109208ae2?ref=outlook-calendar
STATUS:CONFIRMED
SEQUENCE:3
BEGIN:VALARM
TRIGGER:-PT10M
DESCRIPTION:Class Reminder
ACTION:DISPLAY
END:VALARM
END:VEVENT
END:VCALENDAR