BEGIN:VCALENDAR
VERSION:2.0
CALSCALE:GREGORIAN
BEGIN:VEVENT
URL:https://www.learndesk.us/class/5052362706124800/lesson/5c615a6e86badc64fdafb01ee1a346fd?ref=outlook-calendar
SUMMARY:Adding Custom Visuals Settings
DTSTART;TZID=America/Los_Angeles:20260422T190000
DTEND;TZID=America/Los_Angeles:20260422T200000
LOCATION:https://www.learndesk.us/class/5052362706124800/lesson/5c615a6e86badc64fdafb01ee1a346fd?ref=outlook-calendar
DESCRIPTION: This video shows how to add custom visuals to your own visual.

https://www.learndesk.us/class/5052362706124800/lesson/5c615a6e86badc64fdafb01ee1a346fd?ref=outlook-calendar
STATUS:CONFIRMED
SEQUENCE:3
BEGIN:VALARM
TRIGGER:-PT10M
DESCRIPTION:Class Reminder
ACTION:DISPLAY
END:VALARM
END:VEVENT
END:VCALENDAR