BEGIN:VCALENDAR
VERSION:2.0
CALSCALE:GREGORIAN
BEGIN:VEVENT
URL:https://www.learndesk.us/class/5052362706124800/lesson/591881ea469100a9cd72fab7bf3a8fee?ref=outlook-calendar
SUMMARY:Cross Filter Selection and Many-to-Many Relationships
DTSTART;TZID=America/Los_Angeles:20260422T190000
DTEND;TZID=America/Los_Angeles:20260422T200000
LOCATION:https://www.learndesk.us/class/5052362706124800/lesson/591881ea469100a9cd72fab7bf3a8fee?ref=outlook-calendar
DESCRIPTION: Learn about many-to-many relationships and how they are related to the cross filter direction in Power BI Desktop.

https://www.learndesk.us/class/5052362706124800/lesson/591881ea469100a9cd72fab7bf3a8fee?ref=outlook-calendar
STATUS:CONFIRMED
SEQUENCE:3
BEGIN:VALARM
TRIGGER:-PT10M
DESCRIPTION:Class Reminder
ACTION:DISPLAY
END:VALARM
END:VEVENT
END:VCALENDAR