BEGIN:VCALENDAR
VERSION:2.0
CALSCALE:GREGORIAN
BEGIN:VEVENT
URL:https://www.learndesk.us/class/5052362706124800/lesson/48cb57d04aeed531c4c0c2d4cead6a7a?ref=outlook-calendar
SUMMARY:Creating our First Visualizations
DTSTART;TZID=America/Los_Angeles:20260422T190000
DTEND;TZID=America/Los_Angeles:20260422T200000
LOCATION:https://www.learndesk.us/class/5052362706124800/lesson/48cb57d04aeed531c4c0c2d4cead6a7a?ref=outlook-calendar
DESCRIPTION: This video explains visualization and creates a line and a column chart.

https://www.learndesk.us/class/5052362706124800/lesson/48cb57d04aeed531c4c0c2d4cead6a7a?ref=outlook-calendar
STATUS:CONFIRMED
SEQUENCE:3
BEGIN:VALARM
TRIGGER:-PT10M
DESCRIPTION:Class Reminder
ACTION:DISPLAY
END:VALARM
END:VEVENT
END:VCALENDAR