BEGIN:VCALENDAR
VERSION:2.0
CALSCALE:GREGORIAN
BEGIN:VEVENT
URL:https://www.learndesk.us/class/5052362706124800/lesson/486a95e885f2ac3fdc54c827b741dd55?ref=outlook-calendar
SUMMARY:Query Editor vs. Data Model
DTSTART;TZID=America/Los_Angeles:20260421T190000
DTEND;TZID=America/Los_Angeles:20260421T200000
LOCATION:https://www.learndesk.us/class/5052362706124800/lesson/486a95e885f2ac3fdc54c827b741dd55?ref=outlook-calendar
DESCRIPTION: This video looks at the main differences between the Query Editor and the data model.

https://www.learndesk.us/class/5052362706124800/lesson/486a95e885f2ac3fdc54c827b741dd55?ref=outlook-calendar
STATUS:CONFIRMED
SEQUENCE:3
BEGIN:VALARM
TRIGGER:-PT10M
DESCRIPTION:Class Reminder
ACTION:DISPLAY
END:VALARM
END:VEVENT
END:VCALENDAR