BEGIN:VCALENDAR
VERSION:2.0
CALSCALE:GREGORIAN
BEGIN:VEVENT
URL:https://www.learndesk.us/class/5052362706124800/lesson/4491680b82efe3808ce20277f0e4c687?ref=outlook-calendar
SUMMARY:Adding X-Axis Labels
DTSTART;TZID=America/Los_Angeles:20260423T190000
DTEND;TZID=America/Los_Angeles:20260423T200000
LOCATION:https://www.learndesk.us/class/5052362706124800/lesson/4491680b82efe3808ce20277f0e4c687?ref=outlook-calendar
DESCRIPTION: Learn how to easily add an axis to your visual.

https://www.learndesk.us/class/5052362706124800/lesson/4491680b82efe3808ce20277f0e4c687?ref=outlook-calendar
STATUS:CONFIRMED
SEQUENCE:3
BEGIN:VALARM
TRIGGER:-PT10M
DESCRIPTION:Class Reminder
ACTION:DISPLAY
END:VALARM
END:VEVENT
END:VCALENDAR