BEGIN:VCALENDAR
VERSION:2.0
CALSCALE:GREGORIAN
BEGIN:VEVENT
URL:https://www.learndesk.us/class/5052362706124800/lesson/3f832f267fcd026caf8ab8b9f0ec3dbf?ref=outlook-calendar
SUMMARY:Connecting Shapes to Data
DTSTART;TZID=America/Los_Angeles:20260422T190000
DTEND;TZID=America/Los_Angeles:20260422T200000
LOCATION:https://www.learndesk.us/class/5052362706124800/lesson/3f832f267fcd026caf8ab8b9f0ec3dbf?ref=outlook-calendar
DESCRIPTION: This video is about connecting shapes to data.

https://www.learndesk.us/class/5052362706124800/lesson/3f832f267fcd026caf8ab8b9f0ec3dbf?ref=outlook-calendar
STATUS:CONFIRMED
SEQUENCE:3
BEGIN:VALARM
TRIGGER:-PT10M
DESCRIPTION:Class Reminder
ACTION:DISPLAY
END:VALARM
END:VEVENT
END:VCALENDAR