BEGIN:VCALENDAR
VERSION:2.0
CALSCALE:GREGORIAN
BEGIN:VEVENT
URL:https://www.learndesk.us/class/5052362706124800/lesson/3d971b11df0665d24bdebec1374ff968?ref=outlook-calendar
SUMMARY:Understanding Hierarchies and Adding Drill-Down
DTSTART;TZID=America/Los_Angeles:20260422T190000
DTEND;TZID=America/Los_Angeles:20260422T200000
LOCATION:https://www.learndesk.us/class/5052362706124800/lesson/3d971b11df0665d24bdebec1374ff968?ref=outlook-calendar
DESCRIPTION: This video is about understanding hierarchies and adding drill-down.

https://www.learndesk.us/class/5052362706124800/lesson/3d971b11df0665d24bdebec1374ff968?ref=outlook-calendar
STATUS:CONFIRMED
SEQUENCE:3
BEGIN:VALARM
TRIGGER:-PT10M
DESCRIPTION:Class Reminder
ACTION:DISPLAY
END:VALARM
END:VEVENT
END:VCALENDAR