BEGIN:VCALENDAR
VERSION:2.0
CALSCALE:GREGORIAN
BEGIN:VEVENT
URL:https://www.learndesk.us/class/5052362706124800/lesson/3b4e2c4055187f99a91ac47b3d2bbbed?ref=outlook-calendar
SUMMARY:Importing Data From a MySQL Server (and other SQL Servers)
DTSTART;TZID=America/Los_Angeles:20260424T190000
DTEND;TZID=America/Los_Angeles:20260424T200000
LOCATION:https://www.learndesk.us/class/5052362706124800/lesson/3b4e2c4055187f99a91ac47b3d2bbbed?ref=outlook-calendar
DESCRIPTION: This video shows how to import data from a MySQL server and also explains how to get the data from any other SQL server.

https://www.learndesk.us/class/5052362706124800/lesson/3b4e2c4055187f99a91ac47b3d2bbbed?ref=outlook-calendar
STATUS:CONFIRMED
SEQUENCE:3
BEGIN:VALARM
TRIGGER:-PT10M
DESCRIPTION:Class Reminder
ACTION:DISPLAY
END:VALARM
END:VEVENT
END:VCALENDAR