BEGIN:VCALENDAR
VERSION:2.0
CALSCALE:GREGORIAN
BEGIN:VEVENT
URL:https://www.learndesk.us/class/5052362706124800/lesson/39d27d1cd6b9de79d7336fe5b3369483?ref=outlook-calendar
SUMMARY:Understanding Combined Visualizations and Waterfalls
DTSTART;TZID=America/Los_Angeles:20260422T190000
DTEND;TZID=America/Los_Angeles:20260422T200000
LOCATION:https://www.learndesk.us/class/5052362706124800/lesson/39d27d1cd6b9de79d7336fe5b3369483?ref=outlook-calendar
DESCRIPTION: Learn how to display different data in one visualization using combined charts.

https://www.learndesk.us/class/5052362706124800/lesson/39d27d1cd6b9de79d7336fe5b3369483?ref=outlook-calendar
STATUS:CONFIRMED
SEQUENCE:3
BEGIN:VALARM
TRIGGER:-PT10M
DESCRIPTION:Class Reminder
ACTION:DISPLAY
END:VALARM
END:VEVENT
END:VCALENDAR