BEGIN:VCALENDAR
VERSION:2.0
CALSCALE:GREGORIAN
BEGIN:VEVENT
URL:https://www.learndesk.us/class/5052362706124800/lesson/37527989f7c476db6366b8d95abdb24a?ref=outlook-calendar
SUMMARY:Managing Visual Capabilities to Allow Data Input
DTSTART;TZID=America/Los_Angeles:20260422T190000
DTEND;TZID=America/Los_Angeles:20260422T200000
LOCATION:https://www.learndesk.us/class/5052362706124800/lesson/37527989f7c476db6366b8d95abdb24a?ref=outlook-calendar
DESCRIPTION: This video is about managing visual capabilities to allow data input.

https://www.learndesk.us/class/5052362706124800/lesson/37527989f7c476db6366b8d95abdb24a?ref=outlook-calendar
STATUS:CONFIRMED
SEQUENCE:3
BEGIN:VALARM
TRIGGER:-PT10M
DESCRIPTION:Class Reminder
ACTION:DISPLAY
END:VALARM
END:VEVENT
END:VCALENDAR